BEGIN:VCALENDAR
VERSION:2.0
PRODID:-//Winkelhof Bergambacht - ECPv6.15.17.1//NONSGML v1.0//EN
CALSCALE:GREGORIAN
METHOD:PUBLISH
X-ORIGINAL-URL:https://winkelhof.nl
X-WR-CALDESC:Evenementen voor Winkelhof Bergambacht
REFRESH-INTERVAL;VALUE=DURATION:PT1H
X-Robots-Tag:noindex
X-PUBLISHED-TTL:PT1H
BEGIN:VTIMEZONE
TZID:Europe/Amsterdam
BEGIN:DAYLIGHT
TZOFFSETFROM:+0100
TZOFFSETTO:+0200
TZNAME:CEST
DTSTART:20250330T010000
END:DAYLIGHT
BEGIN:STANDARD
TZOFFSETFROM:+0200
TZOFFSETTO:+0100
TZNAME:CET
DTSTART:20251026T010000
END:STANDARD
BEGIN:DAYLIGHT
TZOFFSETFROM:+0100
TZOFFSETTO:+0200
TZNAME:CEST
DTSTART:20260329T010000
END:DAYLIGHT
BEGIN:STANDARD
TZOFFSETFROM:+0200
TZOFFSETTO:+0100
TZNAME:CET
DTSTART:20261025T010000
END:STANDARD
BEGIN:DAYLIGHT
TZOFFSETFROM:+0100
TZOFFSETTO:+0200
TZNAME:CEST
DTSTART:20270328T010000
END:DAYLIGHT
BEGIN:STANDARD
TZOFFSETFROM:+0200
TZOFFSETTO:+0100
TZNAME:CET
DTSTART:20271031T010000
END:STANDARD
END:VTIMEZONE
BEGIN:VEVENT
DTSTART;TZID=Europe/Amsterdam:20260411T100000
DTEND;TZID=Europe/Amsterdam:20260411T170000
DTSTAMP:20260424T182700
CREATED:20260123T110611Z
LAST-MODIFIED:20260411T101149Z
UID:25909-1775901600-1775926800@winkelhof.nl
SUMMARY:Modehof
DESCRIPTION:Winkelhof Modehof Bergambacht – dé modeshow van het jaar\nEén keer per jaar staat mode centraal in Winkelhof Bergambacht tijdens het populaire evenement Winkelhof Modehof. Op zaterdag 11 april verandert de Hoofdstraat en het H.B. Nederburghplein in een sfeervolle catwalk waar de nieuwste modetrends worden gepresenteerd op de rode loper. \nLokale modewinkels bundelen hun krachten\nTijdens dit altijd drukbezochte mode-evenement slaan de Bergambachtse mode- en fashionondernemers de handen ineen. Samen laten zij zien wat dit seizoen trendy is op het gebied van voorjaars- en zomermode. Van dames-\, heren- en kinderkleding tot mode voor senioren: Winkelhof Bergambacht biedt een verrassend en veelzijdig aanbod voor iedere stijl en leeftijd. \nMode\, accessoires en meer\nNiet alleen kleding staat centraal tijdens Winkelhof Modehof. Ook op het gebied van accessoires heeft Winkelhof Bergambacht veel te bieden. Denk aan schoenen\, brillen\, haarmode en visagie. Alles komt samen in één inspirerende modeshow. \nModeshow op de catwalk\nOm 13.00 uur start de modeshow op de lange catwalk in de Hoofdstraat en op het H.B. Nederburghplein. Modellen van jong tot oud(er) lopen af en aan om de nieuwste trends in mode\, schoenen\, brillen\, haarmode en visagie te presenteren. Een unieke manier om in korte tijd volop inspiratie op te doen. \nEen gezellig modefeest voor iedereen\nWinkelhof Modehof is een gezellig en spetterend modefeest voor jong en oud. Kom samen met familie\, vriendinnen of buurtgenoten en ontdek welke kledingcombinaties dit seizoen helemaal in zijn. Laat je verrassen\, inspireren en geniet van een middag vol mode in het hart van Bergambacht.
URL:https://winkelhof.nl/evenement/modehof/
ATTACH;FMTTYPE=image/jpeg:https://winkelhof.nl/wp-content/uploads/2026/01/Afbeelding-van-WhatsApp-op-2025-04-12-om-14.47.20_041cee8a.jpg
END:VEVENT
BEGIN:VEVENT
DTSTART;VALUE=DATE:20260310
DTEND;VALUE=DATE:20260330
DTSTAMP:20260424T182700
CREATED:20260310T164316Z
LAST-MODIFIED:20260310T165025Z
UID:27707-1773100800-1774828799@winkelhof.nl
SUMMARY:35 jaar Rodenburg
DESCRIPTION:🎉 Feest bij DA Rodenburg: 35 jaar! 🎉 \nDA Rodenburg bestaat 35 jaar en dat wordt groots gevierd… 3 weken lang! 🥳 \nJe kunt in de winkel profiteren van allerlei leuke jubileumacties. Denk aan 21% korting op het gehele assortiment\, 1+1 gratis op verschillende artikelen én mooie kleurkoopjes. \nEen mooie kans om je favoriete producten in te slaan of jezelf eens extra te verwennen. \nKom gezellig langs en vier het jubileum mee!
URL:https://winkelhof.nl/evenement/35-jaar-rodenburg/
ATTACH;FMTTYPE=image/jpeg:https://winkelhof.nl/wp-content/uploads/2026/03/b5df61d6-6e45-41ab-9569-d4e00e7c3c19.jpeg
END:VEVENT
BEGIN:VEVENT
DTSTART;TZID=Europe/Amsterdam:20260228T100000
DTEND;TZID=Europe/Amsterdam:20260228T170000
DTSTAMP:20260424T182700
CREATED:20260123T105719Z
LAST-MODIFIED:20260205T124935Z
UID:25897-1772272800-1772298000@winkelhof.nl
SUMMARY:Koopjesmarkt
DESCRIPTION:Koopjesmarkt Winkelhof Bergambacht – zaterdag 28 februari\nDe Koopjesmarkt in Winkelhof Bergambacht staat weer op de agenda! Op zaterdag 28 februari verandert Winkelhof Bergambacht in een gezellige markt vol acties\, aanbiedingen en scherpe koopjes. Een perfecte dag om voordelig te winkelen bij jouw lokale ondernemers. \nVolop aanbiedingen bij lokale winkeliers\nTijdens de Koopjesmarkt presenteren de winkeliers van Winkelhof Bergambacht hun beste deals in kramen verspreid door het winkelgebied. Je vindt er een gevarieerd aanbod met aantrekkelijke kortingen op onder andere mode\, accessoires en diverse andere producten. Ideaal voor iedereen die graag betaalbaar en lokaal winkelt. \nGezellig winkelen in hartje Bergambacht\nDe Koopjesmarkt is niet alleen leuk voor koopjesjagers\, maar ook voor bezoekers die houden van een gezellige sfeer. Struin langs de kramen\, laat je verrassen door het aanbod en geniet van een ontspannen winkeldag in het centrum van Bergambacht.
URL:https://winkelhof.nl/evenement/koopjesmarkt/
LOCATION:Hoofdstraat Bergambacht
ATTACH;FMTTYPE=image/jpeg:https://winkelhof.nl/wp-content/uploads/2026/01/Poster-Outletmarkt-2026_HR_page-0001-1.jpg
ORGANIZER;CN="Winkelhof Bergambacht":MAILTO:info@winkelhofbergambacht.nl
END:VEVENT
END:VCALENDAR