BEGIN:VCALENDAR
VERSION:2.0
PRODID:-//Winkelhof Bergambacht - ECPv6.15.17.1//NONSGML v1.0//EN
CALSCALE:GREGORIAN
METHOD:PUBLISH
X-ORIGINAL-URL:https://winkelhof.nl
X-WR-CALDESC:Evenementen voor Winkelhof Bergambacht
REFRESH-INTERVAL;VALUE=DURATION:PT1H
X-Robots-Tag:noindex
X-PUBLISHED-TTL:PT1H
BEGIN:VTIMEZONE
TZID:Europe/Amsterdam
BEGIN:DAYLIGHT
TZOFFSETFROM:+0100
TZOFFSETTO:+0200
TZNAME:CEST
DTSTART:20250330T010000
END:DAYLIGHT
BEGIN:STANDARD
TZOFFSETFROM:+0200
TZOFFSETTO:+0100
TZNAME:CET
DTSTART:20251026T010000
END:STANDARD
BEGIN:DAYLIGHT
TZOFFSETFROM:+0100
TZOFFSETTO:+0200
TZNAME:CEST
DTSTART:20260329T010000
END:DAYLIGHT
BEGIN:STANDARD
TZOFFSETFROM:+0200
TZOFFSETTO:+0100
TZNAME:CET
DTSTART:20261025T010000
END:STANDARD
BEGIN:DAYLIGHT
TZOFFSETFROM:+0100
TZOFFSETTO:+0200
TZNAME:CEST
DTSTART:20270328T010000
END:DAYLIGHT
BEGIN:STANDARD
TZOFFSETFROM:+0200
TZOFFSETTO:+0100
TZNAME:CET
DTSTART:20271031T010000
END:STANDARD
END:VTIMEZONE
BEGIN:VEVENT
DTSTART;TZID=Europe/Amsterdam:20260620T100000
DTEND;TZID=Europe/Amsterdam:20260620T170000
DTSTAMP:20260424T165804
CREATED:20260123T112455Z
LAST-MODIFIED:20260422T091724Z
UID:25999-1781949600-1781974800@winkelhof.nl
SUMMARY:Koopjesmarkt
DESCRIPTION:Koopjesmarkt Winkelhof Bergambacht – zaterdag 20 juni\nDe Koopjesmarkt in Winkelhof Bergambacht staat weer op de agenda! Op zaterdag 20 juni verandert Winkelhof Bergambacht in een gezellige markt vol acties\, aanbiedingen en scherpe koopjes. Een perfecte dag om voordelig te winkelen bij jouw lokale ondernemers. \nVolop aanbiedingen bij lokale winkeliers\nTijdens de Koopjesmarkt presenteren de winkeliers van Winkelhof Bergambacht hun beste deals in kramen verspreid door het winkelgebied. Je vindt er een gevarieerd aanbod met aantrekkelijke kortingen op onder andere mode\, accessoires en diverse andere producten. Ideaal voor iedereen die graag betaalbaar en lokaal winkelt. \nGezellig winkelen in hartje Bergambacht\nDe Koopjesmarkt is niet alleen leuk voor koopjesjagers\, maar ook voor bezoekers die houden van een gezellige sfeer. Struin langs de kramen\, laat je verrassen door het aanbod en geniet van een ontspannen winkeldag in het centrum van Bergambacht.
URL:https://winkelhof.nl/evenement/koopjesmarkt-2026/
ATTACH;FMTTYPE=image/jpeg:https://winkelhof.nl/wp-content/uploads/2026/01/Afbeelding-van-WhatsApp-op-2025-05-09-om-13.33.28_ce23a7b9-1.jpg
END:VEVENT
BEGIN:VEVENT
DTSTART;TZID=Europe/Amsterdam:20260829T100000
DTEND;TZID=Europe/Amsterdam:20260829T170000
DTSTAMP:20260424T165804
CREATED:20250126T151224Z
LAST-MODIFIED:20260126T153320Z
UID:6073-1787997600-1788022800@winkelhof.nl
SUMMARY:Familiebraderie
DESCRIPTION:Familiebraderie Winkelhof Bergambacht – zaterdag 29 augustus\nOp zaterdag 29 augustus staat Winkelhof Bergambacht in het teken van gezelligheid tijdens de Familiebraderie. Een leuk en sfeervol evenement voor jong en oud\, midden in het centrum van Bergambacht. \nEen gevarieerd aanbod verspreid over maar liefst 100 kramen\nVan 09.30 tot 17.00 uur staat het H.B. Nederburghplein volledig gevuld met kramen. Bezoekers kunnen hier heerlijk struinen langs een gevarieerd aanbod verspreid over maar liefst 100 kramen. De braderie vindt plaats tegenover de winkels in de Hoofdstraat\, waardoor een bezoek perfect te combineren is met een dagje winkelen. \nMuziek en gezelligheid op het plein\nNa een dag vol shoppen en rondkijken is het nog niet afgelopen. Vanaf 17.00 uur zorgt live muziek op het plein voor extra sfeer en gezelligheid. Een fijne afsluiting van een geslaagde dag uit met familie of vrienden. \nKom langs en beleef het mee\nDe Familiebraderie in Winkelhof Bergambacht is dé plek om samen te komen\, te winkelen en te genieten van een gezellige dag. Zet zaterdag 29 augustus in je agenda en kom langs in hartje Bergambacht. \n 
URL:https://winkelhof.nl/evenement/familiebraderie-2025/
LOCATION:Hoofdstraat Bergambacht
ATTACH;FMTTYPE=image/jpeg:https://winkelhof.nl/wp-content/uploads/2025/03/2e037957-21ed-4fa2-84ba-4c9a5ab56b0f.jpg
END:VEVENT
BEGIN:VEVENT
DTSTART;VALUE=DATE:20261127
DTEND;VALUE=DATE:20261128
DTSTAMP:20260424T165804
CREATED:20260126T154014Z
LAST-MODIFIED:20260126T154426Z
UID:6115-1795737600-1795823999@winkelhof.nl
SUMMARY:Decemberactie in de Krimpenerwaard
DESCRIPTION:Decemberactie in de Krimpenerwaard bij Winkelhof Bergambacht\nVanaf 27 november gaat de Decemberactie in de Krimpenerwaard van start bij de ondernemers van Winkelhof Bergambacht. Tijdens deze feestelijke actie maken bezoekers kans op mooie prijzen door lokaal te winkelen in het winkelgebied. \nShop lokaal en maak kans op prijzen\nWanneer je jouw aankopen doet bij de winkels van Winkelhof Bergambacht\, doe je automatisch mee aan de Decemberactie in de Krimpenerwaard. Zo wordt winkelen in de decembermaand niet alleen gezellig\, maar ook extra spannend. Tegelijkertijd steun je de lokale ondernemers en geniet je van persoonlijke service en advies. \nGezellig decemberwinkelen in Bergambacht\nWinkelhof Bergambacht biedt een gevarieerd aanbod aan winkels\, waardoor je op één plek terechtkunt voor al je decemberinkopen. Bovendien profiteer je van gratis parkeren in de Krimpenerwaard\, wat winkelen extra prettig maakt tijdens de drukke feestdagenperiode. \nStart van de Decemberactie\nDe Decemberactie in de Krimpenerwaard start op 27 november en loopt gedurende de decembermaand. \n 
URL:https://winkelhof.nl/evenement/decemberactie-in-de-krimpenerwaard/
ATTACH;FMTTYPE=image/png:https://winkelhof.nl/wp-content/uploads/2026/01/Ontwerp-zonder-titel-1.png
END:VEVENT
BEGIN:VEVENT
DTSTART;TZID=Europe/Amsterdam:20261211T170000
DTEND;TZID=Europe/Amsterdam:20261211T210000
DTSTAMP:20260424T165804
CREATED:20250126T153208Z
LAST-MODIFIED:20260126T153337Z
UID:6122-1797008400-1797022800@winkelhof.nl
SUMMARY:Kerstmarkt
DESCRIPTION:Kerstmarkt Winkelhof Bergambacht – vrijdag 11 december\nOp vrijdag 11 december vindt de sfeervolle Kerstmarkt in Winkelhof Bergambacht weer plaats. Het centrum van Bergambacht wordt omgetoverd tot een gezellige winterse markt waar bezoekers volop kunnen genieten van de warme kerstsfeer. \nKramen\, lekkernijen en gezelligheid\nTijdens de Kerstmarkt staan er diverse kramen met een groot en gevarieerd aanbod aan leuke cadeaus\, winterse producten en heerlijk eten. De markt is een ideale plek om inspiratie op te doen voor de feestdagen en gezellig samen te komen. \nUitreiking cadeaus Decemberactie\nOok de eerste uitreiking van de cadeaus van de Decemberactie staat deze avond op het programma. Bezoekers maken kans op mooie prijzen en kunnen de spanning en gezelligheid van de actie van dichtbij meemaken. \nKom de kerstsfeer proeven\nDe Kerstmarkt vindt plaats van 17.00 tot 21.00 uur en is een perfect uitje voor familie\, vrienden en buurtgenoten. Kom langs\, proef de sfeer en beleef een gezellige winteravond in hartje Bergambacht.
URL:https://winkelhof.nl/evenement/kerstmarkt-bergambacht-winkelhof-11-december/
LOCATION:Hoofdstraat Bergambacht
ATTACH;FMTTYPE=image/png:https://winkelhof.nl/wp-content/uploads/2025/09/Kopie-van-Kertsmarkt-flyer-2025.pdf.png
END:VEVENT
END:VCALENDAR